BEGIN:VCALENDAR
VERSION:2.0
PRODID:-//Moynihan Lumber - ECPv6.15.18//NONSGML v1.0//EN
CALSCALE:GREGORIAN
METHOD:PUBLISH
X-WR-CALNAME:Moynihan Lumber
X-ORIGINAL-URL:https://moynihanlumber.com
X-WR-CALDESC:Events for Moynihan Lumber
REFRESH-INTERVAL;VALUE=DURATION:PT1H
X-Robots-Tag:noindex
X-PUBLISHED-TTL:PT1H
BEGIN:VTIMEZONE
TZID:America/New_York
BEGIN:DAYLIGHT
TZOFFSETFROM:-0500
TZOFFSETTO:-0400
TZNAME:EDT
DTSTART:20210314T070000
END:DAYLIGHT
BEGIN:STANDARD
TZOFFSETFROM:-0400
TZOFFSETTO:-0500
TZNAME:EST
DTSTART:20211107T060000
END:STANDARD
BEGIN:DAYLIGHT
TZOFFSETFROM:-0500
TZOFFSETTO:-0400
TZNAME:EDT
DTSTART:20220313T070000
END:DAYLIGHT
BEGIN:STANDARD
TZOFFSETFROM:-0400
TZOFFSETTO:-0500
TZNAME:EST
DTSTART:20221106T060000
END:STANDARD
BEGIN:DAYLIGHT
TZOFFSETFROM:-0500
TZOFFSETTO:-0400
TZNAME:EDT
DTSTART:20230312T070000
END:DAYLIGHT
BEGIN:STANDARD
TZOFFSETFROM:-0400
TZOFFSETTO:-0500
TZNAME:EST
DTSTART:20231105T060000
END:STANDARD
END:VTIMEZONE
BEGIN:VEVENT
DTSTART;TZID=America/New_York:20220426T163000
DTEND;TZID=America/New_York:20220426T193000
DTSTAMP:20260425T145137
CREATED:20220316T160520Z
LAST-MODIFIED:20220513T174332Z
UID:10000052-1650990600-1651001400@moynihanlumber.com
SUMMARY:UPCOMING:  Wolf Decking & Railing Training
DESCRIPTION:Wolf Decking & Railing Training\nTuesday April 26\, 2022 \n4:30pm \nKitty’s Restaurant \nNorth Reading\, MA \nRSVP to Aaron Allen at aallen@moynihanlumber.com or by cell at (617) 839-1989
URL:https://moynihanlumber.com/event/upcoming-wolf-decking-railing-training/
LOCATION:Kittys restaurant\, 123 Main Street\, North Reading\, 01864
CATEGORIES:Special Events
END:VEVENT
END:VCALENDAR