BEGIN:VCALENDAR
VERSION:2.0
PRODID:-//Moynihan Lumber - ECPv6.15.18//NONSGML v1.0//EN
CALSCALE:GREGORIAN
METHOD:PUBLISH
X-WR-CALNAME:Moynihan Lumber
X-ORIGINAL-URL:https://moynihanlumber.com
X-WR-CALDESC:Events for Moynihan Lumber
REFRESH-INTERVAL;VALUE=DURATION:PT1H
X-Robots-Tag:noindex
X-PUBLISHED-TTL:PT1H
BEGIN:VTIMEZONE
TZID:America/New_York
BEGIN:DAYLIGHT
TZOFFSETFROM:-0500
TZOFFSETTO:-0400
TZNAME:EDT
DTSTART:20190310T070000
END:DAYLIGHT
BEGIN:STANDARD
TZOFFSETFROM:-0400
TZOFFSETTO:-0500
TZNAME:EST
DTSTART:20191103T060000
END:STANDARD
BEGIN:DAYLIGHT
TZOFFSETFROM:-0500
TZOFFSETTO:-0400
TZNAME:EDT
DTSTART:20200308T070000
END:DAYLIGHT
BEGIN:STANDARD
TZOFFSETFROM:-0400
TZOFFSETTO:-0500
TZNAME:EST
DTSTART:20201101T060000
END:STANDARD
BEGIN:DAYLIGHT
TZOFFSETFROM:-0500
TZOFFSETTO:-0400
TZNAME:EDT
DTSTART:20210314T070000
END:DAYLIGHT
BEGIN:STANDARD
TZOFFSETFROM:-0400
TZOFFSETTO:-0500
TZNAME:EST
DTSTART:20211107T060000
END:STANDARD
BEGIN:DAYLIGHT
TZOFFSETFROM:-0500
TZOFFSETTO:-0400
TZNAME:EDT
DTSTART:20220313T070000
END:DAYLIGHT
BEGIN:STANDARD
TZOFFSETFROM:-0400
TZOFFSETTO:-0500
TZNAME:EST
DTSTART:20221106T060000
END:STANDARD
BEGIN:DAYLIGHT
TZOFFSETFROM:-0500
TZOFFSETTO:-0400
TZNAME:EDT
DTSTART:20230312T070000
END:DAYLIGHT
BEGIN:STANDARD
TZOFFSETFROM:-0400
TZOFFSETTO:-0500
TZNAME:EST
DTSTART:20231105T060000
END:STANDARD
BEGIN:DAYLIGHT
TZOFFSETFROM:-0500
TZOFFSETTO:-0400
TZNAME:EDT
DTSTART:20240310T070000
END:DAYLIGHT
BEGIN:STANDARD
TZOFFSETFROM:-0400
TZOFFSETTO:-0500
TZNAME:EST
DTSTART:20241103T060000
END:STANDARD
END:VTIMEZONE
BEGIN:VEVENT
DTSTART;TZID=America/New_York:20230523T080000
DTEND;TZID=America/New_York:20230523T110000
DTSTAMP:20260425T080934
CREATED:20230518T175248Z
LAST-MODIFIED:20230518T175336Z
UID:10000077-1684828800-1684839600@moynihanlumber.com
SUMMARY:Stabila LEVELS Special Event - Tuesday May 23\, 2023
DESCRIPTION:Don’t miss out on this special event.\nNext Tuesday May 23rd\, Stabila reps will be at our North Reading location highlighting their newest products\, giving demonstrations\, and offering special promotional pricing.  The event will start at 8am and end at 11am.  We hope to see you there!!
URL:https://moynihanlumber.com/event/stabila-levels-special-event-tuesday-may-23-2023/
LOCATION:North Reading\, 164 Chestnut Street\, P.O. Box 128\, North Reading\, MA\, 01864-0128\, United States
CATEGORIES:Product/ Promotional Event
GEO:42.569773;-71.0930924
X-APPLE-STRUCTURED-LOCATION;VALUE=URI;X-ADDRESS=North Reading 164 Chestnut Street P.O. Box 128 North Reading MA 01864-0128 United States;X-APPLE-RADIUS=500;X-TITLE=164 Chestnut Street\, P.O. Box 128:geo:-71.0930924,42.569773
END:VEVENT
BEGIN:VEVENT
DTSTART;TZID=America/New_York:20230518T083000
DTEND;TZID=America/New_York:20230518T103000
DTSTAMP:20260425T080934
CREATED:20230515T152803Z
LAST-MODIFIED:20230515T152803Z
UID:10000076-1684398600-1684405800@moynihanlumber.com
SUMMARY:Customer Appreciation Breakfast - Thursday May 18th
DESCRIPTION:
URL:https://moynihanlumber.com/event/customer-appreciation-breakfast-thursday-may-18th/
LOCATION:North Reading\, 164 Chestnut Street\, P.O. Box 128\, North Reading\, MA\, 01864-0128\, United States
CATEGORIES:Special Events
GEO:42.569773;-71.0930924
X-APPLE-STRUCTURED-LOCATION;VALUE=URI;X-ADDRESS=North Reading 164 Chestnut Street P.O. Box 128 North Reading MA 01864-0128 United States;X-APPLE-RADIUS=500;X-TITLE=164 Chestnut Street\, P.O. Box 128:geo:-71.0930924,42.569773
END:VEVENT
BEGIN:VEVENT
DTSTART;TZID=America/New_York:20230302T070000
DTEND;TZID=America/New_York:20230302T100000
DTSTAMP:20260425T080934
CREATED:20230220T124006Z
LAST-MODIFIED:20230224T204512Z
UID:10000067-1677740400-1677751200@moynihanlumber.com
SUMMARY:RESCHEDULED Event - FastenMaster March 2\, 2023
DESCRIPTION:  \n \nFastenMaster\nImpact Event\nJoin us at our North Reading location\non Thursday March 2 at 7am-10am\nfor the FastenMaster Impact Event\nFor more details click on the link below \nFastenMaster Event
URL:https://moynihanlumber.com/event/fastenmaster-event-march-3-2023/
LOCATION:North Reading\, 164 Chestnut Street\, P.O. Box 128\, North Reading\, MA\, 01864-0128\, United States
CATEGORIES:North Reading Event
GEO:42.569773;-71.0930924
X-APPLE-STRUCTURED-LOCATION;VALUE=URI;X-ADDRESS=North Reading 164 Chestnut Street P.O. Box 128 North Reading MA 01864-0128 United States;X-APPLE-RADIUS=500;X-TITLE=164 Chestnut Street\, P.O. Box 128:geo:-71.0930924,42.569773
END:VEVENT
BEGIN:VEVENT
DTSTART;TZID=America/New_York:20220430T080000
DTEND;TZID=America/New_York:20220430T130000
DTSTAMP:20260425T080934
CREATED:20220413T132645Z
LAST-MODIFIED:20220513T174411Z
UID:10000062-1651305600-1651323600@moynihanlumber.com
SUMMARY:YARD SALE - April 30th
DESCRIPTION:Saturday April 30th\n8am – 2pm\nMoynihan Lumber North Reading\n164 Chestnut Street\nNorth Reading\, MA\nfor more information about the event \ngo to our Facebook page at \nhttps://www.facebook.com/MoynihanLumber/ \n 
URL:https://moynihanlumber.com/event/yard-sale-april-30th/
LOCATION:North Reading\, 164 Chestnut Street\, P.O. Box 128\, North Reading\, MA\, 01864-0128\, United States
CATEGORIES:North Reading Event
GEO:42.569773;-71.0930924
X-APPLE-STRUCTURED-LOCATION;VALUE=URI;X-ADDRESS=North Reading 164 Chestnut Street P.O. Box 128 North Reading MA 01864-0128 United States;X-APPLE-RADIUS=500;X-TITLE=164 Chestnut Street\, P.O. Box 128:geo:-71.0930924,42.569773
END:VEVENT
BEGIN:VEVENT
DTSTART;TZID=America/New_York:20211103T083000
DTEND;TZID=America/New_York:20211103T110000
DTSTAMP:20260425T080934
CREATED:20211020T143152Z
LAST-MODIFIED:20211105T171519Z
UID:10000049-1635928200-1635937200@moynihanlumber.com
SUMMARY:TYTAN DEMONSTRATION - November 3rd in NR
DESCRIPTION:Join us on Wednesday November 3rd from 830am – 11am \nin our North Reading location  \nfor TYTAN Subfloor Adhesive Demonstration \nFor more information about the product \nplease click on link \nTYTAN-Subfloor-Pro-TDS_MP \n 
URL:https://moynihanlumber.com/event/tytan-subfloor-adhesive-demonstration-in-nr/
LOCATION:North Reading\, 164 Chestnut Street\, P.O. Box 128\, North Reading\, MA\, 01864-0128\, United States
CATEGORIES:Special Events
GEO:42.569773;-71.0930924
X-APPLE-STRUCTURED-LOCATION;VALUE=URI;X-ADDRESS=North Reading 164 Chestnut Street P.O. Box 128 North Reading MA 01864-0128 United States;X-APPLE-RADIUS=500;X-TITLE=164 Chestnut Street\, P.O. Box 128:geo:-71.0930924,42.569773
END:VEVENT
BEGIN:VEVENT
DTSTART;TZID=America/New_York:20210520T090000
DTEND;TZID=America/New_York:20210520T140000
DTSTAMP:20260425T080934
CREATED:20210504T151227Z
LAST-MODIFIED:20220513T174556Z
UID:10000034-1621501200-1621519200@moynihanlumber.com
SUMMARY:NEW PRODUCT - Evolve Stone Event
DESCRIPTION:You’re Invited \n \nFactory Sales Rep presents\nhow to install Evolve Stone’s\nnailable stone veneer.\nClick on link below for more details \nevolve \n 
URL:https://moynihanlumber.com/event/new-product-evolve-stone-event/
LOCATION:North Reading\, 164 Chestnut Street\, P.O. Box 128\, North Reading\, MA\, 01864-0128\, United States
CATEGORIES:Special Events
GEO:42.569773;-71.0930924
X-APPLE-STRUCTURED-LOCATION;VALUE=URI;X-ADDRESS=North Reading 164 Chestnut Street P.O. Box 128 North Reading MA 01864-0128 United States;X-APPLE-RADIUS=500;X-TITLE=164 Chestnut Street\, P.O. Box 128:geo:-71.0930924,42.569773
END:VEVENT
BEGIN:VEVENT
DTSTART;TZID=America/New_York:20200917T110000
DTEND;TZID=America/New_York:20200917T140000
DTSTAMP:20260425T080934
CREATED:20200906T193856Z
LAST-MODIFIED:20220513T174617Z
UID:10000037-1600340400-1600351200@moynihanlumber.com
SUMMARY:Lifespan Premium Grade Lumber Products Event
DESCRIPTION:Join Us for FREE LUNCH & the opportunity to speak with the experts from LIFESPAN SOLID SELECT! \nFor more information about Lifespan’s Premium Grade Lumber products\, click this link: 2020 Moynihan Lifespan Flyer
URL:https://moynihanlumber.com/event/lifespan-event/
LOCATION:North Reading\, 164 Chestnut Street\, P.O. Box 128\, North Reading\, MA\, 01864-0128\, United States
CATEGORIES:Special Events
GEO:42.569773;-71.0930924
X-APPLE-STRUCTURED-LOCATION;VALUE=URI;X-ADDRESS=North Reading 164 Chestnut Street P.O. Box 128 North Reading MA 01864-0128 United States;X-APPLE-RADIUS=500;X-TITLE=164 Chestnut Street\, P.O. Box 128:geo:-71.0930924,42.569773
END:VEVENT
BEGIN:VEVENT
DTSTART;VALUE=DATE:20200502
DTEND;VALUE=DATE:20200503
DTSTAMP:20260425T080934
CREATED:20200327T001403Z
LAST-MODIFIED:20200404T191129Z
UID:10000039-1588377600-1588463999@moynihanlumber.com
SUMMARY:North Reading Yard Sale
DESCRIPTION:
URL:https://moynihanlumber.com/event/north-reading-yard-sale/
LOCATION:North Reading\, 164 Chestnut Street\, P.O. Box 128\, North Reading\, MA\, 01864-0128\, United States
GEO:42.569773;-71.0930924
X-APPLE-STRUCTURED-LOCATION;VALUE=URI;X-ADDRESS=North Reading 164 Chestnut Street P.O. Box 128 North Reading MA 01864-0128 United States;X-APPLE-RADIUS=500;X-TITLE=164 Chestnut Street\, P.O. Box 128:geo:-71.0930924,42.569773
END:VEVENT
END:VCALENDAR